BEGIN:VCALENDAR
VERSION:2.0
PRODID:-//U District Partnership - ECPv6.15.20//NONSGML v1.0//EN
CALSCALE:GREGORIAN
METHOD:PUBLISH
X-WR-CALNAME:U District Partnership
X-ORIGINAL-URL:https://udistrictpartnership.org
X-WR-CALDESC:Events for U District Partnership
REFRESH-INTERVAL;VALUE=DURATION:PT1H
X-Robots-Tag:noindex
X-PUBLISHED-TTL:PT1H
BEGIN:VTIMEZONE
TZID:America/Los_Angeles
BEGIN:DAYLIGHT
TZOFFSETFROM:-0800
TZOFFSETTO:-0700
TZNAME:PDT
DTSTART:20180311T100000
END:DAYLIGHT
BEGIN:STANDARD
TZOFFSETFROM:-0700
TZOFFSETTO:-0800
TZNAME:PST
DTSTART:20181104T090000
END:STANDARD
BEGIN:DAYLIGHT
TZOFFSETFROM:-0800
TZOFFSETTO:-0700
TZNAME:PDT
DTSTART:20190310T100000
END:DAYLIGHT
BEGIN:STANDARD
TZOFFSETFROM:-0700
TZOFFSETTO:-0800
TZNAME:PST
DTSTART:20191103T090000
END:STANDARD
BEGIN:DAYLIGHT
TZOFFSETFROM:-0800
TZOFFSETTO:-0700
TZNAME:PDT
DTSTART:20200308T100000
END:DAYLIGHT
BEGIN:STANDARD
TZOFFSETFROM:-0700
TZOFFSETTO:-0800
TZNAME:PST
DTSTART:20201101T090000
END:STANDARD
END:VTIMEZONE
BEGIN:VEVENT
DTSTART;TZID=America/Los_Angeles:20191119T113000
DTEND;TZID=America/Los_Angeles:20191119T130000
DTSTAMP:20260421T132155
CREATED:20191018T011411Z
LAST-MODIFIED:20191027T143836Z
UID:2469-1574163000-1574168400@udistrictpartnership.org
SUMMARY:UDP Board Meeting
DESCRIPTION:Monthly public meeting of the U District Partnership board.
URL:https://udistrictpartnership.org/event/udpboard-2/
LOCATION:WSECU Rita Koontz Community Space\, 1121 NE 45th St\, Seattle\, WA\, 98115\, United States
CATEGORIES:Board Meetings
ORGANIZER;CN="U District Partnership":MAILTO:don@udistrictpartnership.org
END:VEVENT
END:VCALENDAR