BEGIN:VCALENDAR
VERSION:2.0
PRODID:-//U District Partnership - ECPv6.15.20//NONSGML v1.0//EN
CALSCALE:GREGORIAN
METHOD:PUBLISH
X-WR-CALNAME:U District Partnership
X-ORIGINAL-URL:https://udistrictpartnership.org
X-WR-CALDESC:Events for U District Partnership
REFRESH-INTERVAL;VALUE=DURATION:PT1H
X-Robots-Tag:noindex
X-PUBLISHED-TTL:PT1H
BEGIN:VTIMEZONE
TZID:America/Los_Angeles
BEGIN:DAYLIGHT
TZOFFSETFROM:-0800
TZOFFSETTO:-0700
TZNAME:PDT
DTSTART:20180311T100000
END:DAYLIGHT
BEGIN:STANDARD
TZOFFSETFROM:-0700
TZOFFSETTO:-0800
TZNAME:PST
DTSTART:20181104T090000
END:STANDARD
BEGIN:DAYLIGHT
TZOFFSETFROM:-0800
TZOFFSETTO:-0700
TZNAME:PDT
DTSTART:20190310T100000
END:DAYLIGHT
BEGIN:STANDARD
TZOFFSETFROM:-0700
TZOFFSETTO:-0800
TZNAME:PST
DTSTART:20191103T090000
END:STANDARD
BEGIN:DAYLIGHT
TZOFFSETFROM:-0800
TZOFFSETTO:-0700
TZNAME:PDT
DTSTART:20200308T100000
END:DAYLIGHT
BEGIN:STANDARD
TZOFFSETFROM:-0700
TZOFFSETTO:-0800
TZNAME:PST
DTSTART:20201101T090000
END:STANDARD
BEGIN:DAYLIGHT
TZOFFSETFROM:-0800
TZOFFSETTO:-0700
TZNAME:PDT
DTSTART:20210314T100000
END:DAYLIGHT
BEGIN:STANDARD
TZOFFSETFROM:-0700
TZOFFSETTO:-0800
TZNAME:PST
DTSTART:20211107T090000
END:STANDARD
END:VTIMEZONE
BEGIN:VEVENT
DTSTART;TZID=America/Los_Angeles:20200611T120000
DTEND;TZID=America/Los_Angeles:20200611T133000
DTSTAMP:20260421T051016
CREATED:20191027T152712Z
LAST-MODIFIED:20191027T173127Z
UID:2609-1591876800-1591882200@udistrictpartnership.org
SUMMARY:UDP Clean and Safe Committee
DESCRIPTION:The regular public meeting of the U District Partnership’s Clean and Safe Committee
URL:https://udistrictpartnership.org/event/udpcleansafecom-2020-06-11/
LOCATION:U Heights Center – Rm. 109\, 5031 University Way NE\, Rm. 109\, Seattle\, WA\, 98105\, United States
CATEGORIES:Committee Meetings
ORGANIZER;CN="U District Partnership":MAILTO:don@udistrictpartnership.org
END:VEVENT
BEGIN:VEVENT
DTSTART;TZID=America/Los_Angeles:20200514T120000
DTEND;TZID=America/Los_Angeles:20200514T133000
DTSTAMP:20260421T051016
CREATED:20191027T152712Z
LAST-MODIFIED:20191027T173127Z
UID:2608-1589457600-1589463000@udistrictpartnership.org
SUMMARY:UDP Clean and Safe Committee
DESCRIPTION:The regular public meeting of the U District Partnership’s Clean and Safe Committee
URL:https://udistrictpartnership.org/event/udpcleansafecom-2020-05-14/
LOCATION:U Heights Center – Rm. 109\, 5031 University Way NE\, Rm. 109\, Seattle\, WA\, 98105\, United States
CATEGORIES:Committee Meetings
ORGANIZER;CN="U District Partnership":MAILTO:don@udistrictpartnership.org
END:VEVENT
BEGIN:VEVENT
DTSTART;TZID=America/Los_Angeles:20200409T120000
DTEND;TZID=America/Los_Angeles:20200409T133000
DTSTAMP:20260421T051016
CREATED:20191027T152712Z
LAST-MODIFIED:20191027T173126Z
UID:2607-1586433600-1586439000@udistrictpartnership.org
SUMMARY:UDP Clean and Safe Committee
DESCRIPTION:The regular public meeting of the U District Partnership’s Clean and Safe Committee
URL:https://udistrictpartnership.org/event/udpcleansafecom-2020-04-09/
LOCATION:U Heights Center – Rm. 109\, 5031 University Way NE\, Rm. 109\, Seattle\, WA\, 98105\, United States
CATEGORIES:Committee Meetings
ORGANIZER;CN="U District Partnership":MAILTO:don@udistrictpartnership.org
END:VEVENT
BEGIN:VEVENT
DTSTART;TZID=America/Los_Angeles:20200312T120000
DTEND;TZID=America/Los_Angeles:20200312T133000
DTSTAMP:20260421T051016
CREATED:20191027T152712Z
LAST-MODIFIED:20191027T173126Z
UID:2606-1584014400-1584019800@udistrictpartnership.org
SUMMARY:UDP Clean and Safe Committee
DESCRIPTION:The regular public meeting of the U District Partnership’s Clean and Safe Committee
URL:https://udistrictpartnership.org/event/udpcleansafecom-2020-03-12/
LOCATION:U Heights Center – Rm. 109\, 5031 University Way NE\, Rm. 109\, Seattle\, WA\, 98105\, United States
CATEGORIES:Committee Meetings
ORGANIZER;CN="U District Partnership":MAILTO:don@udistrictpartnership.org
END:VEVENT
BEGIN:VEVENT
DTSTART;TZID=America/Los_Angeles:20200213T120000
DTEND;TZID=America/Los_Angeles:20200213T133000
DTSTAMP:20260421T051016
CREATED:20191027T152712Z
LAST-MODIFIED:20191027T173126Z
UID:2605-1581595200-1581600600@udistrictpartnership.org
SUMMARY:UDP Clean and Safe Committee
DESCRIPTION:The regular public meeting of the U District Partnership’s Clean and Safe Committee
URL:https://udistrictpartnership.org/event/udpcleansafecom-2020-02-13/
LOCATION:U Heights Center – Rm. 109\, 5031 University Way NE\, Rm. 109\, Seattle\, WA\, 98105\, United States
CATEGORIES:Committee Meetings
ORGANIZER;CN="U District Partnership":MAILTO:don@udistrictpartnership.org
END:VEVENT
BEGIN:VEVENT
DTSTART;TZID=America/Los_Angeles:20200109T120000
DTEND;TZID=America/Los_Angeles:20200109T133000
DTSTAMP:20260421T051016
CREATED:20191027T152712Z
LAST-MODIFIED:20191027T173126Z
UID:2604-1578571200-1578576600@udistrictpartnership.org
SUMMARY:UDP Clean and Safe Committee
DESCRIPTION:The regular public meeting of the U District Partnership’s Clean and Safe Committee
URL:https://udistrictpartnership.org/event/udpcleansafecom-2020-01-09/
LOCATION:U Heights Center – Rm. 109\, 5031 University Way NE\, Rm. 109\, Seattle\, WA\, 98105\, United States
CATEGORIES:Committee Meetings
ORGANIZER;CN="U District Partnership":MAILTO:don@udistrictpartnership.org
END:VEVENT
BEGIN:VEVENT
DTSTART;TZID=America/Los_Angeles:20191212T120000
DTEND;TZID=America/Los_Angeles:20191212T133000
DTSTAMP:20260421T051016
CREATED:20191027T152712Z
LAST-MODIFIED:20191027T173126Z
UID:2603-1576152000-1576157400@udistrictpartnership.org
SUMMARY:UDP Clean and Safe Committee
DESCRIPTION:The regular public meeting of the U District Partnership’s Clean and Safe Committee
URL:https://udistrictpartnership.org/event/udpcleansafecom-2019-12-12/
LOCATION:U Heights Center – Rm. 109\, 5031 University Way NE\, Rm. 109\, Seattle\, WA\, 98105\, United States
CATEGORIES:Committee Meetings
ORGANIZER;CN="U District Partnership":MAILTO:don@udistrictpartnership.org
END:VEVENT
BEGIN:VEVENT
DTSTART;TZID=America/Los_Angeles:20191114T120000
DTEND;TZID=America/Los_Angeles:20191114T133000
DTSTAMP:20260421T051016
CREATED:20191027T152712Z
LAST-MODIFIED:20191027T173126Z
UID:2600-1573732800-1573738200@udistrictpartnership.org
SUMMARY:UDP Clean and Safe Committee
DESCRIPTION:The regular public meeting of the U District Partnership’s Clean and Safe Committee
URL:https://udistrictpartnership.org/event/udpcleansafecom/
LOCATION:U Heights Center – Rm. 109\, 5031 University Way NE\, Rm. 109\, Seattle\, WA\, 98105\, United States
CATEGORIES:Committee Meetings
ORGANIZER;CN="U District Partnership":MAILTO:don@udistrictpartnership.org
END:VEVENT
END:VCALENDAR