BEGIN:VCALENDAR
VERSION:2.0
PRODID:-//U District Partnership - ECPv6.15.20//NONSGML v1.0//EN
CALSCALE:GREGORIAN
METHOD:PUBLISH
X-ORIGINAL-URL:https://udistrictpartnership.org
X-WR-CALDESC:Events for U District Partnership
REFRESH-INTERVAL;VALUE=DURATION:PT1H
X-Robots-Tag:noindex
X-PUBLISHED-TTL:PT1H
BEGIN:VTIMEZONE
TZID:America/Los_Angeles
BEGIN:DAYLIGHT
TZOFFSETFROM:-0800
TZOFFSETTO:-0700
TZNAME:PDT
DTSTART:20180311T100000
END:DAYLIGHT
BEGIN:STANDARD
TZOFFSETFROM:-0700
TZOFFSETTO:-0800
TZNAME:PST
DTSTART:20181104T090000
END:STANDARD
BEGIN:DAYLIGHT
TZOFFSETFROM:-0800
TZOFFSETTO:-0700
TZNAME:PDT
DTSTART:20190310T100000
END:DAYLIGHT
BEGIN:STANDARD
TZOFFSETFROM:-0700
TZOFFSETTO:-0800
TZNAME:PST
DTSTART:20191103T090000
END:STANDARD
BEGIN:DAYLIGHT
TZOFFSETFROM:-0800
TZOFFSETTO:-0700
TZNAME:PDT
DTSTART:20200308T100000
END:DAYLIGHT
BEGIN:STANDARD
TZOFFSETFROM:-0700
TZOFFSETTO:-0800
TZNAME:PST
DTSTART:20201101T090000
END:STANDARD
BEGIN:DAYLIGHT
TZOFFSETFROM:-0800
TZOFFSETTO:-0700
TZNAME:PDT
DTSTART:20210314T100000
END:DAYLIGHT
BEGIN:STANDARD
TZOFFSETFROM:-0700
TZOFFSETTO:-0800
TZNAME:PST
DTSTART:20211107T090000
END:STANDARD
BEGIN:DAYLIGHT
TZOFFSETFROM:-0800
TZOFFSETTO:-0700
TZNAME:PDT
DTSTART:20220313T100000
END:DAYLIGHT
BEGIN:STANDARD
TZOFFSETFROM:-0700
TZOFFSETTO:-0800
TZNAME:PST
DTSTART:20221106T090000
END:STANDARD
END:VTIMEZONE
BEGIN:VEVENT
DTSTART;TZID=America/Los_Angeles:20210716T090000
DTEND;TZID=America/Los_Angeles:20210716T100000
DTSTAMP:20260421T065457
CREATED:20191027T154208Z
LAST-MODIFIED:20210316T013001Z
UID:2647-1626426000-1626429600@udistrictpartnership.org
SUMMARY:UDBIA Walk
DESCRIPTION:Monthly public walk of the U District Business Improvement Area
URL:https://udistrictpartnership.org/event/udbiawalk-2021-07-16/
LOCATION:UDP Conference Room\, 1415 Northeast 45th Street\, Suite 401\, Seattle\, WA\, 98105\, United States
CATEGORIES:Community Events
ORGANIZER;CN="U District Partnership":MAILTO:don@udistrictpartnership.org
END:VEVENT
BEGIN:VEVENT
DTSTART;TZID=America/Los_Angeles:20210618T090000
DTEND;TZID=America/Los_Angeles:20210618T100000
DTSTAMP:20260421T065457
CREATED:20191027T154208Z
LAST-MODIFIED:20210316T012959Z
UID:2646-1624006800-1624010400@udistrictpartnership.org
SUMMARY:UDBIA Walk
DESCRIPTION:Monthly public walk of the U District Business Improvement Area
URL:https://udistrictpartnership.org/event/udbiawalk-2021-06-18/
LOCATION:UDP Conference Room\, 1415 Northeast 45th Street\, Suite 401\, Seattle\, WA\, 98105\, United States
CATEGORIES:Community Events
ORGANIZER;CN="U District Partnership":MAILTO:don@udistrictpartnership.org
END:VEVENT
BEGIN:VEVENT
DTSTART;TZID=America/Los_Angeles:20210521T090000
DTEND;TZID=America/Los_Angeles:20210521T100000
DTSTAMP:20260421T065457
CREATED:20191027T154208Z
LAST-MODIFIED:20210316T012959Z
UID:2645-1621587600-1621591200@udistrictpartnership.org
SUMMARY:UDBIA Walk
DESCRIPTION:Monthly public walk of the U District Business Improvement Area
URL:https://udistrictpartnership.org/event/udbiawalk-2021-05-21/
LOCATION:UDP Conference Room\, 1415 Northeast 45th Street\, Suite 401\, Seattle\, WA\, 98105\, United States
CATEGORIES:Community Events
ORGANIZER;CN="U District Partnership":MAILTO:don@udistrictpartnership.org
END:VEVENT
BEGIN:VEVENT
DTSTART;TZID=America/Los_Angeles:20210416T090000
DTEND;TZID=America/Los_Angeles:20210416T100000
DTSTAMP:20260421T065457
CREATED:20191027T154208Z
LAST-MODIFIED:20210316T012959Z
UID:2644-1618563600-1618567200@udistrictpartnership.org
SUMMARY:UDBIA Walk
DESCRIPTION:Monthly public walk of the U District Business Improvement Area
URL:https://udistrictpartnership.org/event/udbiawalk-2021-04-16/
LOCATION:UDP Conference Room\, 1415 Northeast 45th Street\, Suite 401\, Seattle\, WA\, 98105\, United States
CATEGORIES:Community Events
ORGANIZER;CN="U District Partnership":MAILTO:don@udistrictpartnership.org
END:VEVENT
BEGIN:VEVENT
DTSTART;TZID=America/Los_Angeles:20210319T090000
DTEND;TZID=America/Los_Angeles:20210319T100000
DTSTAMP:20260421T065457
CREATED:20191027T154208Z
LAST-MODIFIED:20210316T012959Z
UID:2643-1616144400-1616148000@udistrictpartnership.org
SUMMARY:UDBIA Walk
DESCRIPTION:Monthly public walk of the U District Business Improvement Area
URL:https://udistrictpartnership.org/event/udbiawalk-2021-03-19/
LOCATION:UDP Conference Room\, 1415 Northeast 45th Street\, Suite 401\, Seattle\, WA\, 98105\, United States
CATEGORIES:Community Events
ORGANIZER;CN="U District Partnership":MAILTO:don@udistrictpartnership.org
END:VEVENT
BEGIN:VEVENT
DTSTART;TZID=America/Los_Angeles:20210219T090000
DTEND;TZID=America/Los_Angeles:20210219T100000
DTSTAMP:20260421T065457
CREATED:20191027T154208Z
LAST-MODIFIED:20210316T012959Z
UID:2642-1613725200-1613728800@udistrictpartnership.org
SUMMARY:UDBIA Walk
DESCRIPTION:Monthly public walk of the U District Business Improvement Area
URL:https://udistrictpartnership.org/event/udbiawalk-2021-02-19/
LOCATION:UDP Conference Room\, 1415 Northeast 45th Street\, Suite 401\, Seattle\, WA\, 98105\, United States
CATEGORIES:Community Events
ORGANIZER;CN="U District Partnership":MAILTO:don@udistrictpartnership.org
END:VEVENT
BEGIN:VEVENT
DTSTART;TZID=America/Los_Angeles:20210115T090000
DTEND;TZID=America/Los_Angeles:20210115T100000
DTSTAMP:20260421T065457
CREATED:20191027T154208Z
LAST-MODIFIED:20210316T012958Z
UID:2641-1610701200-1610704800@udistrictpartnership.org
SUMMARY:UDBIA Walk
DESCRIPTION:Monthly public walk of the U District Business Improvement Area
URL:https://udistrictpartnership.org/event/udbiawalk-2021-01-15/
LOCATION:UDP Conference Room\, 1415 Northeast 45th Street\, Suite 401\, Seattle\, WA\, 98105\, United States
CATEGORIES:Community Events
ORGANIZER;CN="U District Partnership":MAILTO:don@udistrictpartnership.org
END:VEVENT
BEGIN:VEVENT
DTSTART;TZID=America/Los_Angeles:20201218T090000
DTEND;TZID=America/Los_Angeles:20201218T100000
DTSTAMP:20260421T065457
CREATED:20191027T154208Z
LAST-MODIFIED:20210316T012958Z
UID:2640-1608282000-1608285600@udistrictpartnership.org
SUMMARY:UDBIA Walk
DESCRIPTION:Monthly public walk of the U District Business Improvement Area
URL:https://udistrictpartnership.org/event/udbiawalk-2020-12-18/
LOCATION:UDP Conference Room\, 1415 Northeast 45th Street\, Suite 401\, Seattle\, WA\, 98105\, United States
CATEGORIES:Community Events
ORGANIZER;CN="U District Partnership":MAILTO:don@udistrictpartnership.org
END:VEVENT
BEGIN:VEVENT
DTSTART;TZID=America/Los_Angeles:20201120T090000
DTEND;TZID=America/Los_Angeles:20201120T100000
DTSTAMP:20260421T065457
CREATED:20191027T154208Z
LAST-MODIFIED:20210316T012958Z
UID:2639-1605862800-1605866400@udistrictpartnership.org
SUMMARY:UDBIA Walk
DESCRIPTION:Monthly public walk of the U District Business Improvement Area
URL:https://udistrictpartnership.org/event/udbiawalk-2020-11-20/
LOCATION:UDP Conference Room\, 1415 Northeast 45th Street\, Suite 401\, Seattle\, WA\, 98105\, United States
CATEGORIES:Community Events
ORGANIZER;CN="U District Partnership":MAILTO:don@udistrictpartnership.org
END:VEVENT
BEGIN:VEVENT
DTSTART;TZID=America/Los_Angeles:20201016T090000
DTEND;TZID=America/Los_Angeles:20201016T100000
DTSTAMP:20260421T065457
CREATED:20191027T154208Z
LAST-MODIFIED:20210316T012958Z
UID:2638-1602838800-1602842400@udistrictpartnership.org
SUMMARY:UDBIA Walk
DESCRIPTION:Monthly public walk of the U District Business Improvement Area
URL:https://udistrictpartnership.org/event/udbiawalk-2020-10-16/
LOCATION:UDP Conference Room\, 1415 Northeast 45th Street\, Suite 401\, Seattle\, WA\, 98105\, United States
CATEGORIES:Community Events
ORGANIZER;CN="U District Partnership":MAILTO:don@udistrictpartnership.org
END:VEVENT
BEGIN:VEVENT
DTSTART;TZID=America/Los_Angeles:20200918T090000
DTEND;TZID=America/Los_Angeles:20200918T100000
DTSTAMP:20260421T065457
CREATED:20191027T154208Z
LAST-MODIFIED:20210316T012957Z
UID:2637-1600419600-1600423200@udistrictpartnership.org
SUMMARY:UDBIA Walk
DESCRIPTION:Monthly public walk of the U District Business Improvement Area
URL:https://udistrictpartnership.org/event/udbiawalk-2020-09-18/
LOCATION:UDP Conference Room\, 1415 Northeast 45th Street\, Suite 401\, Seattle\, WA\, 98105\, United States
CATEGORIES:Community Events
ORGANIZER;CN="U District Partnership":MAILTO:don@udistrictpartnership.org
END:VEVENT
BEGIN:VEVENT
DTSTART;TZID=America/Los_Angeles:20200821T090000
DTEND;TZID=America/Los_Angeles:20200821T100000
DTSTAMP:20260421T065457
CREATED:20191027T154208Z
LAST-MODIFIED:20210316T012956Z
UID:2636-1598000400-1598004000@udistrictpartnership.org
SUMMARY:UDBIA Walk
DESCRIPTION:Monthly public walk of the U District Business Improvement Area
URL:https://udistrictpartnership.org/event/udbiawalk-2020-08-21/
LOCATION:UDP Conference Room\, 1415 Northeast 45th Street\, Suite 401\, Seattle\, WA\, 98105\, United States
CATEGORIES:Community Events
ORGANIZER;CN="U District Partnership":MAILTO:don@udistrictpartnership.org
END:VEVENT
BEGIN:VEVENT
DTSTART;TZID=America/Los_Angeles:20200717T090000
DTEND;TZID=America/Los_Angeles:20200717T100000
DTSTAMP:20260421T065457
CREATED:20191027T154208Z
LAST-MODIFIED:20210316T012955Z
UID:2635-1594976400-1594980000@udistrictpartnership.org
SUMMARY:UDBIA Walk
DESCRIPTION:Monthly public walk of the U District Business Improvement Area
URL:https://udistrictpartnership.org/event/udbiawalk-2020-07-17/
LOCATION:UDP Conference Room\, 1415 Northeast 45th Street\, Suite 401\, Seattle\, WA\, 98105\, United States
CATEGORIES:Community Events
ORGANIZER;CN="U District Partnership":MAILTO:don@udistrictpartnership.org
END:VEVENT
BEGIN:VEVENT
DTSTART;TZID=America/Los_Angeles:20200619T090000
DTEND;TZID=America/Los_Angeles:20200619T100000
DTSTAMP:20260421T065457
CREATED:20191027T154208Z
LAST-MODIFIED:20210316T012955Z
UID:2634-1592557200-1592560800@udistrictpartnership.org
SUMMARY:UDBIA Walk
DESCRIPTION:Monthly public walk of the U District Business Improvement Area
URL:https://udistrictpartnership.org/event/udbiawalk-2020-06-19/
LOCATION:UDP Conference Room\, 1415 Northeast 45th Street\, Suite 401\, Seattle\, WA\, 98105\, United States
CATEGORIES:Community Events
ORGANIZER;CN="U District Partnership":MAILTO:don@udistrictpartnership.org
END:VEVENT
BEGIN:VEVENT
DTSTART;TZID=America/Los_Angeles:20200515T090000
DTEND;TZID=America/Los_Angeles:20200515T100000
DTSTAMP:20260421T065457
CREATED:20191027T154208Z
LAST-MODIFIED:20210316T012955Z
UID:2633-1589533200-1589536800@udistrictpartnership.org
SUMMARY:UDBIA Walk
DESCRIPTION:Monthly public walk of the U District Business Improvement Area
URL:https://udistrictpartnership.org/event/udbiawalk-2020-05-15/
LOCATION:UDP Conference Room\, 1415 Northeast 45th Street\, Suite 401\, Seattle\, WA\, 98105\, United States
CATEGORIES:Community Events
ORGANIZER;CN="U District Partnership":MAILTO:don@udistrictpartnership.org
END:VEVENT
BEGIN:VEVENT
DTSTART;TZID=America/Los_Angeles:20200417T090000
DTEND;TZID=America/Los_Angeles:20200417T100000
DTSTAMP:20260421T065457
CREATED:20191027T154208Z
LAST-MODIFIED:20210316T012955Z
UID:2632-1587114000-1587117600@udistrictpartnership.org
SUMMARY:UDBIA Walk
DESCRIPTION:Monthly public walk of the U District Business Improvement Area
URL:https://udistrictpartnership.org/event/udbiawalk-2020-04-17/
LOCATION:UDP Conference Room\, 1415 Northeast 45th Street\, Suite 401\, Seattle\, WA\, 98105\, United States
CATEGORIES:Community Events
ORGANIZER;CN="U District Partnership":MAILTO:don@udistrictpartnership.org
END:VEVENT
BEGIN:VEVENT
DTSTART;TZID=America/Los_Angeles:20200320T090000
DTEND;TZID=America/Los_Angeles:20200320T100000
DTSTAMP:20260421T065457
CREATED:20191027T154208Z
LAST-MODIFIED:20210316T012954Z
UID:2631-1584694800-1584698400@udistrictpartnership.org
SUMMARY:UDBIA Walk
DESCRIPTION:Monthly public walk of the U District Business Improvement Area
URL:https://udistrictpartnership.org/event/udbiawalk-2020-03-20/
LOCATION:UDP Conference Room\, 1415 Northeast 45th Street\, Suite 401\, Seattle\, WA\, 98105\, United States
CATEGORIES:Community Events
ORGANIZER;CN="U District Partnership":MAILTO:don@udistrictpartnership.org
END:VEVENT
BEGIN:VEVENT
DTSTART;TZID=America/Los_Angeles:20200221T090000
DTEND;TZID=America/Los_Angeles:20200221T100000
DTSTAMP:20260421T065457
CREATED:20191027T154208Z
LAST-MODIFIED:20210316T012954Z
UID:2630-1582275600-1582279200@udistrictpartnership.org
SUMMARY:UDBIA Walk
DESCRIPTION:Monthly public walk of the U District Business Improvement Area
URL:https://udistrictpartnership.org/event/udbiawalk-2020-02-21/
LOCATION:UDP Conference Room\, 1415 Northeast 45th Street\, Suite 401\, Seattle\, WA\, 98105\, United States
CATEGORIES:Community Events
ORGANIZER;CN="U District Partnership":MAILTO:don@udistrictpartnership.org
END:VEVENT
BEGIN:VEVENT
DTSTART;TZID=America/Los_Angeles:20200117T090000
DTEND;TZID=America/Los_Angeles:20200117T100000
DTSTAMP:20260421T065457
CREATED:20191027T154208Z
LAST-MODIFIED:20210316T012954Z
UID:2629-1579251600-1579255200@udistrictpartnership.org
SUMMARY:UDBIA Walk
DESCRIPTION:Monthly public walk of the U District Business Improvement Area
URL:https://udistrictpartnership.org/event/udbiawalk-2020-01-17/
LOCATION:UDP Conference Room\, 1415 Northeast 45th Street\, Suite 401\, Seattle\, WA\, 98105\, United States
CATEGORIES:Community Events
ORGANIZER;CN="U District Partnership":MAILTO:don@udistrictpartnership.org
END:VEVENT
BEGIN:VEVENT
DTSTART;TZID=America/Los_Angeles:20191220T090000
DTEND;TZID=America/Los_Angeles:20191220T100000
DTSTAMP:20260421T065457
CREATED:20191027T154208Z
LAST-MODIFIED:20210316T012954Z
UID:2628-1576832400-1576836000@udistrictpartnership.org
SUMMARY:UDBIA Walk
DESCRIPTION:Monthly public walk of the U District Business Improvement Area
URL:https://udistrictpartnership.org/event/udbiawalk-2019-12-20/
LOCATION:UDP Conference Room\, 1415 Northeast 45th Street\, Suite 401\, Seattle\, WA\, 98105\, United States
CATEGORIES:Community Events
ORGANIZER;CN="U District Partnership":MAILTO:don@udistrictpartnership.org
END:VEVENT
BEGIN:VEVENT
DTSTART;TZID=America/Los_Angeles:20191115T090000
DTEND;TZID=America/Los_Angeles:20191115T100000
DTSTAMP:20260421T065457
CREATED:20191027T154208Z
LAST-MODIFIED:20210316T012948Z
UID:2626-1573808400-1573812000@udistrictpartnership.org
SUMMARY:UDBIA Walk
DESCRIPTION:Monthly public walk of the U District Business Improvement Area
URL:https://udistrictpartnership.org/event/udbiawalk/
LOCATION:UDP Conference Room\, 1415 Northeast 45th Street\, Suite 401\, Seattle\, WA\, 98105\, United States
CATEGORIES:Community Events
ORGANIZER;CN="U District Partnership":MAILTO:don@udistrictpartnership.org
END:VEVENT
BEGIN:VEVENT
DTSTART;TZID=America/Los_Angeles:20191031T150000
DTEND;TZID=America/Los_Angeles:20191031T170000
DTSTAMP:20260421T065457
CREATED:20191028T224634Z
LAST-MODIFIED:20191028T225137Z
UID:2721-1572534000-1572541200@udistrictpartnership.org
SUMMARY:Trick or Treat Roosevelt
DESCRIPTION:Free\, fun\, family-friendly event!\nTRICK OR TREAT\nTrick or treaters are invited to visit local businesses on Roosevelt Way NE between NE 47th and NE 52nd Streets to collect candy and enjoy fun activities. \n“TOUCH-A-TRUCK” EXPERIENCE\nCome interact with real working vehicles from construction crews and departments\, such as a local firetruck! \nDONATE TO THE FOOD BANK\nIf you are able\, please bring a nonperishable item to donate to the University District Food Bank such as canned fruit\, chicken\, tuna\, salmon\, soup or stew. \nPARTICIPATING LOCATIONS\n\nPAWS Cat City (Progressive Animal Welfare Society)\nHardmill\nScarecrow Video\nDST Nails & Spa\nTen Kicks Gym\nPlanned Parenthood – Roosevelt Health Center\nCharlala Hong Kong Cafe & Hair Studio\nMei Mei Cafe\nTed Brown Music\nUniversity District Food Bank\nUniversity Branch – The Seattle Public Library\nUniversity Volkswagen Service Department\nFunko Games Studio\nU District Partnership Booth\nLocal Fire Truck\n\nTell us you’re coming on our Facebook Event Page. \nHosted by the U District Partnership\, the U District Food Bank\, and local businesses. \nThis event to support our local businesses is paid for with U District Business Improvement Area (UDBIA) funds.
URL:https://udistrictpartnership.org/event/totroosevelt-2019-10-31/
LOCATION:Roosevelt Way NE\, 5000 Roosevelt Way NE\, Seattle\, WA\, 98105\, United States
CATEGORIES:Community Events
ORGANIZER;CN="U District Partnership":MAILTO:don@udistrictpartnership.org
END:VEVENT
END:VCALENDAR