BEGIN:VCALENDAR
VERSION:2.0
PRODID:-//U District Partnership - ECPv6.15.20//NONSGML v1.0//EN
CALSCALE:GREGORIAN
METHOD:PUBLISH
X-WR-CALNAME:U District Partnership
X-ORIGINAL-URL:https://udistrictpartnership.org
X-WR-CALDESC:Events for U District Partnership
REFRESH-INTERVAL;VALUE=DURATION:PT1H
X-Robots-Tag:noindex
X-PUBLISHED-TTL:PT1H
BEGIN:VTIMEZONE
TZID:America/Los_Angeles
BEGIN:DAYLIGHT
TZOFFSETFROM:-0800
TZOFFSETTO:-0700
TZNAME:PDT
DTSTART:20190310T100000
END:DAYLIGHT
BEGIN:STANDARD
TZOFFSETFROM:-0700
TZOFFSETTO:-0800
TZNAME:PST
DTSTART:20191103T090000
END:STANDARD
BEGIN:DAYLIGHT
TZOFFSETFROM:-0800
TZOFFSETTO:-0700
TZNAME:PDT
DTSTART:20200308T100000
END:DAYLIGHT
BEGIN:STANDARD
TZOFFSETFROM:-0700
TZOFFSETTO:-0800
TZNAME:PST
DTSTART:20201101T090000
END:STANDARD
BEGIN:DAYLIGHT
TZOFFSETFROM:-0800
TZOFFSETTO:-0700
TZNAME:PDT
DTSTART:20210314T100000
END:DAYLIGHT
BEGIN:STANDARD
TZOFFSETFROM:-0700
TZOFFSETTO:-0800
TZNAME:PST
DTSTART:20211107T090000
END:STANDARD
BEGIN:DAYLIGHT
TZOFFSETFROM:-0800
TZOFFSETTO:-0700
TZNAME:PDT
DTSTART:20220313T100000
END:DAYLIGHT
BEGIN:STANDARD
TZOFFSETFROM:-0700
TZOFFSETTO:-0800
TZNAME:PST
DTSTART:20221106T090000
END:STANDARD
END:VTIMEZONE
BEGIN:VEVENT
DTSTART;TZID=America/Los_Angeles:20200619T090000
DTEND;TZID=America/Los_Angeles:20200619T100000
DTSTAMP:20260421T115239
CREATED:20191027T154208Z
LAST-MODIFIED:20210316T012955Z
UID:2634-1592557200-1592560800@udistrictpartnership.org
SUMMARY:UDBIA Walk
DESCRIPTION:Monthly public walk of the U District Business Improvement Area
URL:https://udistrictpartnership.org/event/udbiawalk-2020-06-19/
LOCATION:UDP Conference Room\, 1415 Northeast 45th Street\, Suite 401\, Seattle\, WA\, 98105\, United States
CATEGORIES:Community Events
ORGANIZER;CN="U District Partnership":MAILTO:don@udistrictpartnership.org
END:VEVENT
BEGIN:VEVENT
DTSTART;TZID=America/Los_Angeles:20200623T160000
DTEND;TZID=America/Los_Angeles:20200623T173000
DTSTAMP:20260421T115239
CREATED:20200123T202349Z
LAST-MODIFIED:20200623T160255Z
UID:3943-1592928000-1592933400@udistrictpartnership.org
SUMMARY:Urban Vitality Committee Meeting
DESCRIPTION:Zoom meetings (contact Katy@udistrictpartnership.org for a password):\nhttps://us02web.zoom.us/j/89476858251?pwd=OU0rNFJENzdQUXlWRjVxOW9jZVhjUT09\nMeeting ID: 894 7685 8251\n+1 253 215 8782 US (Tacoma)
URL:https://udistrictpartnership.org/event/urban-vitality-committee-meeting-6/
LOCATION:UDP Conference Room\, 1415 Northeast 45th Street\, Suite 401\, Seattle\, WA\, 98105\, United States
END:VEVENT
BEGIN:VEVENT
DTSTART;TZID=America/Los_Angeles:20200625T160000
DTEND;TZID=America/Los_Angeles:20200625T173000
DTSTAMP:20260421T115239
CREATED:20191027T165951Z
LAST-MODIFIED:20200612T000415Z
UID:2679-1593100800-1593106200@udistrictpartnership.org
SUMMARY:UDBIA Ratepayer Advisory Board Meeting
DESCRIPTION:Join Zoom Meeting at: https://us02web.zoom.us/j/83900908320 \nMeeting ID: 839 0090 8320\nOne tap mobile +12532158782\,\,83900908320# US
URL:https://udistrictpartnership.org/event/udbiaboard-2020-06-25/
LOCATION:U Heights Center – Auditorium\, 5031 University Way NE\, Auditorium\, Seattle\, WA\, 98105\, United States
CATEGORIES:Board Meetings
ORGANIZER;CN="U District Partnership":MAILTO:don@udistrictpartnership.org
END:VEVENT
BEGIN:VEVENT
DTSTART;TZID=America/Los_Angeles:20200625T173000
DTEND;TZID=America/Los_Angeles:20200625T183000
DTSTAMP:20260421T115239
CREATED:20200612T000524Z
LAST-MODIFIED:20200612T000600Z
UID:4213-1593106200-1593109800@udistrictpartnership.org
SUMMARY:Annual UDBIA Ratepayers Meeting
DESCRIPTION:Join Zoom Meeting at: https://us02web.zoom.us/j/83900908320 \nMeeting ID: 839 0090 8320\nOne tap mobile +12532158782\,\,83900908320# US
URL:https://udistrictpartnership.org/event/annual-udbia-ratepayers-meeting/
END:VEVENT
BEGIN:VEVENT
DTSTART;TZID=America/Los_Angeles:20200717T090000
DTEND;TZID=America/Los_Angeles:20200717T100000
DTSTAMP:20260421T115239
CREATED:20191027T154208Z
LAST-MODIFIED:20210316T012955Z
UID:2635-1594976400-1594980000@udistrictpartnership.org
SUMMARY:UDBIA Walk
DESCRIPTION:Monthly public walk of the U District Business Improvement Area
URL:https://udistrictpartnership.org/event/udbiawalk-2020-07-17/
LOCATION:UDP Conference Room\, 1415 Northeast 45th Street\, Suite 401\, Seattle\, WA\, 98105\, United States
CATEGORIES:Community Events
ORGANIZER;CN="U District Partnership":MAILTO:don@udistrictpartnership.org
END:VEVENT
BEGIN:VEVENT
DTSTART;TZID=America/Los_Angeles:20200721T113000
DTEND;TZID=America/Los_Angeles:20200721T130000
DTSTAMP:20260421T115239
CREATED:20191027T130934Z
LAST-MODIFIED:20200710T204020Z
UID:2559-1595331000-1595336400@udistrictpartnership.org
SUMMARY:UDP Board Meeting (CANCELED)
DESCRIPTION:This monthly meeting has been canceled.
URL:https://udistrictpartnership.org/event/udpboard-2020-07-21/
LOCATION:UW Tower\, 333 Brooklyn Ave NE\, 22nd Floor\, Seattle\, WA\, 98105\, United States
CATEGORIES:Board Meetings
ORGANIZER;CN="U District Partnership":MAILTO:don@udistrictpartnership.org
END:VEVENT
BEGIN:VEVENT
DTSTART;TZID=America/Los_Angeles:20200728T160000
DTEND;TZID=America/Los_Angeles:20200728T173000
DTSTAMP:20260421T115240
CREATED:20200123T202617Z
LAST-MODIFIED:20200623T160705Z
UID:3947-1595952000-1595957400@udistrictpartnership.org
SUMMARY:Urban Vitality Committee Meeting
DESCRIPTION:Zoom meetings (contact Katy@udistrictpartnership.org for a password):\nhttps://us02web.zoom.us/j/89476858251?pwd=OU0rNFJENzdQUXlWRjVxOW9jZVhjUT09\nMeeting ID: 894 7685 8251\n+1 253 215 8782 US (Tacoma)
URL:https://udistrictpartnership.org/event/urban-vitality-committee-meeting-8/
LOCATION:UDP Conference Room\, 1415 Northeast 45th Street\, Suite 401\, Seattle\, WA\, 98105\, United States
END:VEVENT
BEGIN:VEVENT
DTSTART;TZID=America/Los_Angeles:20200803T140000
DTEND;TZID=America/Los_Angeles:20200803T153000
DTSTAMP:20260421T115240
CREATED:20200714T225828Z
LAST-MODIFIED:20200714T225828Z
UID:4236-1596463200-1596468600@udistrictpartnership.org
SUMMARY:Economic Development Committee Meeting
DESCRIPTION:Join Zoom Meeting\nhttps://us02web.zoom.us/j/84853070458?pwd=UGF5b0JDOERXSDRSZHBmQWtsbGRBdz09 \nFor a meeting password\, please email daniel@udistrictpartnership.org
URL:https://udistrictpartnership.org/event/economic-development-committee-meeting-2/
END:VEVENT
BEGIN:VEVENT
DTSTART;TZID=America/Los_Angeles:20200818T113000
DTEND;TZID=America/Los_Angeles:20200818T130000
DTSTAMP:20260421T115240
CREATED:20191027T130934Z
LAST-MODIFIED:20200818T183517Z
UID:2560-1597750200-1597755600@udistrictpartnership.org
SUMMARY:UDP Board Meeting
DESCRIPTION:Join Zoom Meeting https://us02web.zoom.us/j/86077846672 \nMeeting ID: 860 7784 6672 One tap mobile +12532158782\,\,86077846672# US (Tacoma) \nIf you wish to attend this meeting or make public testimony\, please call Mark Crawford for a meeting password at 206-547-4417 or email him at mark@udistrictpartnership.org.
URL:https://udistrictpartnership.org/event/udpboard-2020-08-18/
LOCATION:UW Tower\, 333 Brooklyn Ave NE\, 22nd Floor\, Seattle\, WA\, 98105\, United States
CATEGORIES:Board Meetings
ORGANIZER;CN="U District Partnership":MAILTO:don@udistrictpartnership.org
END:VEVENT
BEGIN:VEVENT
DTSTART;TZID=America/Los_Angeles:20200821T090000
DTEND;TZID=America/Los_Angeles:20200821T100000
DTSTAMP:20260421T115240
CREATED:20191027T154208Z
LAST-MODIFIED:20210316T012956Z
UID:2636-1598000400-1598004000@udistrictpartnership.org
SUMMARY:UDBIA Walk
DESCRIPTION:Monthly public walk of the U District Business Improvement Area
URL:https://udistrictpartnership.org/event/udbiawalk-2020-08-21/
LOCATION:UDP Conference Room\, 1415 Northeast 45th Street\, Suite 401\, Seattle\, WA\, 98105\, United States
CATEGORIES:Community Events
ORGANIZER;CN="U District Partnership":MAILTO:don@udistrictpartnership.org
END:VEVENT
BEGIN:VEVENT
DTSTART;TZID=America/Los_Angeles:20200825T160000
DTEND;TZID=America/Los_Angeles:20200825T173000
DTSTAMP:20260421T115240
CREATED:20200123T202734Z
LAST-MODIFIED:20200623T160850Z
UID:3949-1598371200-1598376600@udistrictpartnership.org
SUMMARY:Urban Vitality Committee Meeting
DESCRIPTION:Zoom meetings (contact Katy@udistrictpartnership.org for a password):\nhttps://us02web.zoom.us/j/89476858251?pwd=OU0rNFJENzdQUXlWRjVxOW9jZVhjUT09\nMeeting ID: 894 7685 8251\n+1 253 215 8782 US (Tacoma)
URL:https://udistrictpartnership.org/event/urban-vitality-committee-meeting-9/
LOCATION:UDP Conference Room\, 1415 Northeast 45th Street\, Suite 401\, Seattle\, WA\, 98105\, United States
END:VEVENT
BEGIN:VEVENT
DTSTART;TZID=America/Los_Angeles:20200915T113000
DTEND;TZID=America/Los_Angeles:20200915T130000
DTSTAMP:20260421T115240
CREATED:20191027T130934Z
LAST-MODIFIED:20200911T220436Z
UID:2561-1600169400-1600174800@udistrictpartnership.org
SUMMARY:UDP Board Meeting
DESCRIPTION:Join Zoom Meeting https://us02web.zoom.us/j/86077846672 Meeting ID: 860 7784 6672 Mobile +12532158782 If you wish to attend this meeting or make public testimony\, please call Mark Crawford for a meeting password at 206-547-4417 or email him at mark@udistrictpartnership.org.
URL:https://udistrictpartnership.org/event/udpboard-2020-09-15/
LOCATION:UW Tower – Visitors Dining Room\, 4333 Brooklyn Ave NE\, Mezzanine Level\, seattle\, WA\, 98105\, United States
CATEGORIES:Board Meetings
ORGANIZER;CN="U District Partnership":MAILTO:don@udistrictpartnership.org
END:VEVENT
BEGIN:VEVENT
DTSTART;TZID=America/Los_Angeles:20200918T090000
DTEND;TZID=America/Los_Angeles:20200918T100000
DTSTAMP:20260421T115240
CREATED:20191027T154208Z
LAST-MODIFIED:20210316T012957Z
UID:2637-1600419600-1600423200@udistrictpartnership.org
SUMMARY:UDBIA Walk
DESCRIPTION:Monthly public walk of the U District Business Improvement Area
URL:https://udistrictpartnership.org/event/udbiawalk-2020-09-18/
LOCATION:UDP Conference Room\, 1415 Northeast 45th Street\, Suite 401\, Seattle\, WA\, 98105\, United States
CATEGORIES:Community Events
ORGANIZER;CN="U District Partnership":MAILTO:don@udistrictpartnership.org
END:VEVENT
BEGIN:VEVENT
DTSTART;TZID=America/Los_Angeles:20200922T160000
DTEND;TZID=America/Los_Angeles:20200922T173000
DTSTAMP:20260421T115240
CREATED:20200123T202858Z
LAST-MODIFIED:20200123T202858Z
UID:3951-1600790400-1600795800@udistrictpartnership.org
SUMMARY:Urban Vitality Committee Meeting
DESCRIPTION:Regular  meeting of the Urban Vitality Committee.
URL:https://udistrictpartnership.org/event/urban-vitality-committee-meeting-10/
LOCATION:UDP Conference Room\, 1415 Northeast 45th Street\, Suite 401\, Seattle\, WA\, 98105\, United States
END:VEVENT
BEGIN:VEVENT
DTSTART;TZID=America/Los_Angeles:20201016T090000
DTEND;TZID=America/Los_Angeles:20201016T100000
DTSTAMP:20260421T115240
CREATED:20191027T154208Z
LAST-MODIFIED:20210316T012958Z
UID:2638-1602838800-1602842400@udistrictpartnership.org
SUMMARY:UDBIA Walk
DESCRIPTION:Monthly public walk of the U District Business Improvement Area
URL:https://udistrictpartnership.org/event/udbiawalk-2020-10-16/
LOCATION:UDP Conference Room\, 1415 Northeast 45th Street\, Suite 401\, Seattle\, WA\, 98105\, United States
CATEGORIES:Community Events
ORGANIZER;CN="U District Partnership":MAILTO:don@udistrictpartnership.org
END:VEVENT
BEGIN:VEVENT
DTSTART;TZID=America/Los_Angeles:20201020T113000
DTEND;TZID=America/Los_Angeles:20201020T130000
DTSTAMP:20260421T115240
CREATED:20191027T130934Z
LAST-MODIFIED:20201019T174549Z
UID:2562-1603193400-1603198800@udistrictpartnership.org
SUMMARY:UDP Board Meeting
DESCRIPTION:Join Zoom Meeting \nhttps://us02web.zoom.us/j/86077846672 \nMeeting ID: 860 7784 6672 \nMobile +12532158782 \nIf you wish to attend this meeting or make public testimony\, please call Mark Crawford for a meeting password at 206-547-4417 or email him at mark@udistrictpartnership.org.
URL:https://udistrictpartnership.org/event/udpboard-2020-10-20/
LOCATION:UW Tower\, 333 Brooklyn Ave NE\, 22nd Floor\, Seattle\, WA\, 98105\, United States
CATEGORIES:Board Meetings
ORGANIZER;CN="U District Partnership":MAILTO:don@udistrictpartnership.org
END:VEVENT
BEGIN:VEVENT
DTSTART;TZID=America/Los_Angeles:20201022T160000
DTEND;TZID=America/Los_Angeles:20201022T173000
DTSTAMP:20260421T115240
CREATED:20191027T171535Z
LAST-MODIFIED:20201021T165100Z
UID:2683-1603382400-1603387800@udistrictpartnership.org
SUMMARY:UDBIA Ratepayer Advisory Board Meeting
DESCRIPTION:Join Zoom Meeting https://us02web.zoom.us/j/83042727535 \nMeeting ID: 830 4272 7535 \nOne tap mobile +12532158782\,\,83042727535#
URL:https://udistrictpartnership.org/event/udbiaboard-2020-10-22/
LOCATION:WA\, United States
CATEGORIES:Board Meetings
ORGANIZER;CN="U District Partnership":MAILTO:don@udistrictpartnership.org
END:VEVENT
BEGIN:VEVENT
DTSTART;TZID=America/Los_Angeles:20201027T160000
DTEND;TZID=America/Los_Angeles:20201027T173000
DTSTAMP:20260421T115240
CREATED:20200123T203004Z
LAST-MODIFIED:20200123T203004Z
UID:3953-1603814400-1603819800@udistrictpartnership.org
SUMMARY:Urban Vitality Committee Meeting
DESCRIPTION:Regular meeting of the Urban Vitality Committee.
URL:https://udistrictpartnership.org/event/urban-vitality-committee-meeting-11/
LOCATION:UDP Conference Room\, 1415 Northeast 45th Street\, Suite 401\, Seattle\, WA\, 98105\, United States
END:VEVENT
BEGIN:VEVENT
DTSTART;TZID=America/Los_Angeles:20201120T090000
DTEND;TZID=America/Los_Angeles:20201120T100000
DTSTAMP:20260421T115240
CREATED:20191027T154208Z
LAST-MODIFIED:20210316T012958Z
UID:2639-1605862800-1605866400@udistrictpartnership.org
SUMMARY:UDBIA Walk
DESCRIPTION:Monthly public walk of the U District Business Improvement Area
URL:https://udistrictpartnership.org/event/udbiawalk-2020-11-20/
LOCATION:UDP Conference Room\, 1415 Northeast 45th Street\, Suite 401\, Seattle\, WA\, 98105\, United States
CATEGORIES:Community Events
ORGANIZER;CN="U District Partnership":MAILTO:don@udistrictpartnership.org
END:VEVENT
BEGIN:VEVENT
DTSTART;TZID=America/Los_Angeles:20201124T160000
DTEND;TZID=America/Los_Angeles:20201124T173000
DTSTAMP:20260421T115240
CREATED:20200123T203113Z
LAST-MODIFIED:20200123T203113Z
UID:3955-1606233600-1606239000@udistrictpartnership.org
SUMMARY:Urban Vitality Committee Meeting
DESCRIPTION:Regular meeting of the Urban Vitality Committee.
URL:https://udistrictpartnership.org/event/urban-vitality-committee-meeting-12/
LOCATION:UDP Conference Room\, 1415 Northeast 45th Street\, Suite 401\, Seattle\, WA\, 98105\, United States
END:VEVENT
BEGIN:VEVENT
DTSTART;TZID=America/Los_Angeles:20201215T113000
DTEND;TZID=America/Los_Angeles:20201215T130000
DTSTAMP:20260421T115240
CREATED:20191027T130934Z
LAST-MODIFIED:20210225T022507Z
UID:2564-1608031800-1608037200@udistrictpartnership.org
SUMMARY:UDP Board Meeting
DESCRIPTION:Join Zoom Meeting https://us02web.zoom.us/j/86077846672 Meeting ID: 860 7784 6672 Mobile +12532158782 \nIf you wish to attend this meeting or make public testimony\, please call Don Blakeney for a meeting password at 206-547-4417 or email him at don@udistrictpartnership.org.
URL:https://udistrictpartnership.org/event/udpboard-2019-12-17-2020-12-15/
LOCATION:UW Tower\, 333 Brooklyn Ave NE\, 22nd Floor\, Seattle\, WA\, 98105\, United States
CATEGORIES:Board Meetings
ORGANIZER;CN="U District Partnership":MAILTO:don@udistrictpartnership.org
END:VEVENT
BEGIN:VEVENT
DTSTART;TZID=America/Los_Angeles:20201218T090000
DTEND;TZID=America/Los_Angeles:20201218T100000
DTSTAMP:20260421T115240
CREATED:20191027T154208Z
LAST-MODIFIED:20210316T012958Z
UID:2640-1608282000-1608285600@udistrictpartnership.org
SUMMARY:UDBIA Walk
DESCRIPTION:Monthly public walk of the U District Business Improvement Area
URL:https://udistrictpartnership.org/event/udbiawalk-2020-12-18/
LOCATION:UDP Conference Room\, 1415 Northeast 45th Street\, Suite 401\, Seattle\, WA\, 98105\, United States
CATEGORIES:Community Events
ORGANIZER;CN="U District Partnership":MAILTO:don@udistrictpartnership.org
END:VEVENT
BEGIN:VEVENT
DTSTART;TZID=America/Los_Angeles:20201222T160000
DTEND;TZID=America/Los_Angeles:20201222T173000
DTSTAMP:20260421T115240
CREATED:20200123T203205Z
LAST-MODIFIED:20200123T203205Z
UID:3957-1608652800-1608658200@udistrictpartnership.org
SUMMARY:Urban Vitality Committee Meeting
DESCRIPTION:Regular meeting of the Urban Vitality Committee
URL:https://udistrictpartnership.org/event/urban-vitality-committee-meeting-13/
LOCATION:UDP Conference Room\, 1415 Northeast 45th Street\, Suite 401\, Seattle\, WA\, 98105\, United States
END:VEVENT
BEGIN:VEVENT
DTSTART;TZID=America/Los_Angeles:20210115T090000
DTEND;TZID=America/Los_Angeles:20210115T100000
DTSTAMP:20260421T115240
CREATED:20191027T154208Z
LAST-MODIFIED:20210316T012958Z
UID:2641-1610701200-1610704800@udistrictpartnership.org
SUMMARY:UDBIA Walk
DESCRIPTION:Monthly public walk of the U District Business Improvement Area
URL:https://udistrictpartnership.org/event/udbiawalk-2021-01-15/
LOCATION:UDP Conference Room\, 1415 Northeast 45th Street\, Suite 401\, Seattle\, WA\, 98105\, United States
CATEGORIES:Community Events
ORGANIZER;CN="U District Partnership":MAILTO:don@udistrictpartnership.org
END:VEVENT
BEGIN:VEVENT
DTSTART;TZID=America/Los_Angeles:20210119T113000
DTEND;TZID=America/Los_Angeles:20210119T130000
DTSTAMP:20260421T115240
CREATED:20191027T130934Z
LAST-MODIFIED:20210225T022507Z
UID:2565-1611055800-1611061200@udistrictpartnership.org
SUMMARY:UDP Board Meeting
DESCRIPTION:Join Zoom Meeting https://us02web.zoom.us/j/86077846672 Meeting ID: 860 7784 6672 Mobile +12532158782 \nIf you wish to attend this meeting or make public testimony\, please call Don Blakeney for a meeting password at 206-547-4417 or email him at don@udistrictpartnership.org.
URL:https://udistrictpartnership.org/event/udpboard-2019-12-17-2021-01-19/
LOCATION:UW Tower\, 333 Brooklyn Ave NE\, 22nd Floor\, Seattle\, WA\, 98105\, United States
CATEGORIES:Board Meetings
ORGANIZER;CN="U District Partnership":MAILTO:don@udistrictpartnership.org
END:VEVENT
BEGIN:VEVENT
DTSTART;TZID=America/Los_Angeles:20210216T113000
DTEND;TZID=America/Los_Angeles:20210216T130000
DTSTAMP:20260421T115240
CREATED:20191027T130934Z
LAST-MODIFIED:20210225T022508Z
UID:2566-1613475000-1613480400@udistrictpartnership.org
SUMMARY:UDP Board Meeting
DESCRIPTION:Join Zoom Meeting https://us02web.zoom.us/j/86077846672 Meeting ID: 860 7784 6672 Mobile +12532158782 \nIf you wish to attend this meeting or make public testimony\, please call Don Blakeney for a meeting password at 206-547-4417 or email him at don@udistrictpartnership.org.
URL:https://udistrictpartnership.org/event/udpboard-2019-12-17-2021-02-16/
LOCATION:UW Tower\, 333 Brooklyn Ave NE\, 22nd Floor\, Seattle\, WA\, 98105\, United States
CATEGORIES:Board Meetings
ORGANIZER;CN="U District Partnership":MAILTO:don@udistrictpartnership.org
END:VEVENT
BEGIN:VEVENT
DTSTART;TZID=America/Los_Angeles:20210219T090000
DTEND;TZID=America/Los_Angeles:20210219T100000
DTSTAMP:20260421T115240
CREATED:20191027T154208Z
LAST-MODIFIED:20210316T012959Z
UID:2642-1613725200-1613728800@udistrictpartnership.org
SUMMARY:UDBIA Walk
DESCRIPTION:Monthly public walk of the U District Business Improvement Area
URL:https://udistrictpartnership.org/event/udbiawalk-2021-02-19/
LOCATION:UDP Conference Room\, 1415 Northeast 45th Street\, Suite 401\, Seattle\, WA\, 98105\, United States
CATEGORIES:Community Events
ORGANIZER;CN="U District Partnership":MAILTO:don@udistrictpartnership.org
END:VEVENT
BEGIN:VEVENT
DTSTART;TZID=America/Los_Angeles:20210225T160000
DTEND;TZID=America/Los_Angeles:20210225T173000
DTSTAMP:20260421T115240
CREATED:20201023T180153Z
LAST-MODIFIED:20210225T020133Z
UID:4367-1614268800-1614274200@udistrictpartnership.org
SUMMARY:UDBIA Ratepayer Advisory Board Meeting
DESCRIPTION:Zoom: https://us02web.zoom.us/j/87501034019 \nView the Board Packet here.
URL:https://udistrictpartnership.org/event/udbia-ratepayer-advisory-board-meeting/
END:VEVENT
BEGIN:VEVENT
DTSTART;TZID=America/Los_Angeles:20210316T113000
DTEND;TZID=America/Los_Angeles:20210316T130000
DTSTAMP:20260421T115240
CREATED:20191027T130934Z
LAST-MODIFIED:20210316T003957Z
UID:2567-1615894200-1615899600@udistrictpartnership.org
SUMMARY:UDP Board Meeting
DESCRIPTION:Join Zoom Meeting https://us02web.zoom.us/j/82286774861 Meeting ID: 822 8677 4861 Mobile +12532158782 \nIf you wish to attend this meeting or make public testimony\, please call Don Blakeney for a meeting password at 206-547-4417 or email him at don@udistrictpartnership.org. \nClick here for board documents.
URL:https://udistrictpartnership.org/event/udpboard-2021-03-16/
LOCATION:Zoom\, Seattle\, WA\, 98105\, United States
CATEGORIES:Board Meetings
ORGANIZER;CN="U District Partnership":MAILTO:don@udistrictpartnership.org
END:VEVENT
BEGIN:VEVENT
DTSTART;TZID=America/Los_Angeles:20210319T090000
DTEND;TZID=America/Los_Angeles:20210319T100000
DTSTAMP:20260421T115240
CREATED:20191027T154208Z
LAST-MODIFIED:20210316T012959Z
UID:2643-1616144400-1616148000@udistrictpartnership.org
SUMMARY:UDBIA Walk
DESCRIPTION:Monthly public walk of the U District Business Improvement Area
URL:https://udistrictpartnership.org/event/udbiawalk-2021-03-19/
LOCATION:UDP Conference Room\, 1415 Northeast 45th Street\, Suite 401\, Seattle\, WA\, 98105\, United States
CATEGORIES:Community Events
ORGANIZER;CN="U District Partnership":MAILTO:don@udistrictpartnership.org
END:VEVENT
END:VCALENDAR