BEGIN:VCALENDAR
VERSION:2.0
PRODID:-//U District Partnership - ECPv6.15.20//NONSGML v1.0//EN
CALSCALE:GREGORIAN
METHOD:PUBLISH
X-ORIGINAL-URL:https://udistrictpartnership.org
X-WR-CALDESC:Events for U District Partnership
REFRESH-INTERVAL;VALUE=DURATION:PT1H
X-Robots-Tag:noindex
X-PUBLISHED-TTL:PT1H
BEGIN:VTIMEZONE
TZID:America/Los_Angeles
BEGIN:DAYLIGHT
TZOFFSETFROM:-0800
TZOFFSETTO:-0700
TZNAME:PDT
DTSTART:20200308T100000
END:DAYLIGHT
BEGIN:STANDARD
TZOFFSETFROM:-0700
TZOFFSETTO:-0800
TZNAME:PST
DTSTART:20201101T090000
END:STANDARD
BEGIN:DAYLIGHT
TZOFFSETFROM:-0800
TZOFFSETTO:-0700
TZNAME:PDT
DTSTART:20210314T100000
END:DAYLIGHT
BEGIN:STANDARD
TZOFFSETFROM:-0700
TZOFFSETTO:-0800
TZNAME:PST
DTSTART:20211107T090000
END:STANDARD
BEGIN:DAYLIGHT
TZOFFSETFROM:-0800
TZOFFSETTO:-0700
TZNAME:PDT
DTSTART:20220313T100000
END:DAYLIGHT
BEGIN:STANDARD
TZOFFSETFROM:-0700
TZOFFSETTO:-0800
TZNAME:PST
DTSTART:20221106T090000
END:STANDARD
END:VTIMEZONE
BEGIN:VEVENT
DTSTART;TZID=America/Los_Angeles:20210624T160000
DTEND;TZID=America/Los_Angeles:20210624T173000
DTSTAMP:20260421T133821
CREATED:20201023T180829Z
LAST-MODIFIED:20201023T180829Z
UID:4371-1624550400-1624555800@udistrictpartnership.org
SUMMARY:Annual UDBIA Ratepayers Meeting
DESCRIPTION:Zoom information coming soon.
URL:https://udistrictpartnership.org/event/annual-udbia-ratepayers-meeting-2/
LOCATION:WA
END:VEVENT
BEGIN:VEVENT
DTSTART;TZID=America/Los_Angeles:20210716T090000
DTEND;TZID=America/Los_Angeles:20210716T100000
DTSTAMP:20260421T133821
CREATED:20191027T154208Z
LAST-MODIFIED:20210316T013001Z
UID:2647-1626426000-1626429600@udistrictpartnership.org
SUMMARY:UDBIA Walk
DESCRIPTION:Monthly public walk of the U District Business Improvement Area
URL:https://udistrictpartnership.org/event/udbiawalk-2021-07-16/
LOCATION:UDP Conference Room\, 1415 Northeast 45th Street\, Suite 401\, Seattle\, WA\, 98105\, United States
CATEGORIES:Community Events
ORGANIZER;CN="U District Partnership":MAILTO:don@udistrictpartnership.org
END:VEVENT
BEGIN:VEVENT
DTSTART;TZID=America/Los_Angeles:20210720T113000
DTEND;TZID=America/Los_Angeles:20210720T130000
DTSTAMP:20260421T133821
CREATED:20191027T130934Z
LAST-MODIFIED:20210316T012906Z
UID:2571-1626780600-1626786000@udistrictpartnership.org
SUMMARY:UDP Board Meeting
DESCRIPTION:Join Zoom Meeting https://us02web.zoom.us/j/82286774861 Meeting ID: 822 8677 4861 Mobile +12532158782 \nIf you wish to attend this meeting or make public testimony\, please call Don Blakeney for a meeting password at 206-547-4417 or email him at don@udistrictpartnership.org. \nClick here for board documents.
URL:https://udistrictpartnership.org/event/udpboardmeetings-2021-05-18-2021-07-20/
LOCATION:Zoom\, Seattle\, WA\, 98105\, United States
CATEGORIES:Board Meetings
ORGANIZER;CN="U District Partnership":MAILTO:don@udistrictpartnership.org
END:VEVENT
BEGIN:VEVENT
DTSTART;TZID=America/Los_Angeles:20210817T113000
DTEND;TZID=America/Los_Angeles:20210817T130000
DTSTAMP:20260421T133821
CREATED:20191027T130934Z
LAST-MODIFIED:20210316T012906Z
UID:2572-1629199800-1629205200@udistrictpartnership.org
SUMMARY:UDP Board Meeting
DESCRIPTION:Join Zoom Meeting https://us02web.zoom.us/j/82286774861 Meeting ID: 822 8677 4861 Mobile +12532158782 \nIf you wish to attend this meeting or make public testimony\, please call Don Blakeney for a meeting password at 206-547-4417 or email him at don@udistrictpartnership.org. \nClick here for board documents.
URL:https://udistrictpartnership.org/event/udpboardmeetings-2021-05-18-2021-08-17/
LOCATION:Zoom\, Seattle\, WA\, 98105\, United States
CATEGORIES:Board Meetings
ORGANIZER;CN="U District Partnership":MAILTO:don@udistrictpartnership.org
END:VEVENT
END:VCALENDAR